BEGIN:VCALENDAR
VERSION:2.0
PRODID:-// - ECPv6.4.0//NONSGML v1.0//EN
CALSCALE:GREGORIAN
METHOD:PUBLISH
X-ORIGINAL-URL:https://legendlake.philipmalenfant.com
X-WR-CALDESC:Events for 
REFRESH-INTERVAL;VALUE=DURATION:PT1H
X-Robots-Tag:noindex
X-PUBLISHED-TTL:PT1H
BEGIN:VTIMEZONE
TZID:UTC
BEGIN:STANDARD
TZOFFSETFROM:+0000
TZOFFSETTO:+0000
TZNAME:UTC
DTSTART:20240101T000000
END:STANDARD
END:VTIMEZONE
BEGIN:VEVENT
DTSTART;VALUE=DATE:20240527
DTEND;VALUE=DATE:20240528
DTSTAMP:20260422T221329
CREATED:20240408T023338Z
LAST-MODIFIED:20240408T023338Z
UID:280-1716768000-1716854399@legendlake.philipmalenfant.com
SUMMARY:Memorial Day -Lodge Office Closed
DESCRIPTION:
URL:https://legendlake.philipmalenfant.com/event/memorial-day-lodge-office-closed/
END:VEVENT
END:VCALENDAR